BEGIN:VCALENDAR
VERSION:2.0
PRODID:-//eventon.com NONSGML v1.0//EN
BEGIN:VEVENT
UID:69eb765115aad
DTSTAMP:20260424T085529
DTSTART:20260417T150000Z
DTEND:20260417T160000Z
LOCATION:Red River Parish Library 410 E Carroll St\, 
SUMMARY:Children's Story Time @ 10:00
DESCRIPTION: Join us for Story Time at the Red River Parish Library on Fridays at 10:00 am.
END:VEVENT
END:VCALENDAR