BEGIN:VCALENDAR
VERSION:2.0
PRODID:-//eventon.com NONSGML v1.0//EN
BEGIN:VEVENT
UID:69eb75758e803
DTSTAMP:20260424T085149
DTSTART:20260428T150000Z
DTEND:20260428T210000Z
LOCATION:
SUMMARY:ARTIFICIAL INTELLIGENCE WORKSHOP (PART 2) @10:00 OR 2:00
DESCRIPTION: Join us for an Artificial Intelligence Workshop (Part 2) with instructor Toby DeVille on Tuesday\,  April 28. Choose one of two sessions:  10:00-12:00 or 2:00-4:00. For more information or to register\,  call 318-932-5614.
END:VEVENT
END:VCALENDAR