BEGIN:VCALENDAR
VERSION:2.0
PRODID:-//eventon.com NONSGML v1.0//EN
BEGIN:VEVENT
UID:69eb75beca991
DTSTAMP:20260424T085302
DTSTART:20260403T050000Z
DTEND:20260404T045900Z
LOCATION:
SUMMARY:GOOD FRIDAY CLOSURE
DESCRIPTION: The Red River Parish Library will be closed on Friday\,  April 3 in observance of Good Friday. Happy Easter!
END:VEVENT
END:VCALENDAR