BEGIN:VCALENDAR
VERSION:2.0
PRODID:-//eventon.com NONSGML v1.0//EN
BEGIN:VEVENT
UID:69eb75d4500de
DTSTAMP:20260424T085324
DTSTART:20260408T180000Z
DTEND:20260408T190000Z
LOCATION:
SUMMARY:BINGO @ 1:00
DESCRIPTION: Join the fun at the Red River Parish Library on Wednesday\,  April 8th @ 1:00. Enjoy April Showers BINGO\,  refreshments\,  prizes\,  and friends. See you there!
END:VEVENT
END:VCALENDAR