BEGIN:VCALENDAR
VERSION:2.0
PRODID:-//eventon.com NONSGML v1.0//EN
BEGIN:VEVENT
UID:69eb7608cd164
DTSTAMP:20260424T085416
DTSTART:20260415T150000Z
DTEND:20260415T170000Z
LOCATION:
SUMMARY:GENEALOGY MEETING @ 10:00
DESCRIPTION: Learn how to research your ancestry with help from Dr. Virginia Webb and library staff. Join us for the monthly Genealogy Meeting at the Red River Parish Library on Wednesday\,  April 15th @ 10:00.
END:VEVENT
END:VCALENDAR