BEGIN:VCALENDAR
VERSION:2.0
PRODID:-//eventon.com NONSGML v1.0//EN
BEGIN:VEVENT
UID:69eb75a45c0a2
DTSTAMP:20260424T085236
DTSTART:20260424T180000Z
DTEND:20260424T190000Z
LOCATION:
SUMMARY:WEBSITE WORKSHOP @ 1:00
DESCRIPTION: Join us for a fun\,  free workshop at the Red River Parish Library! Friday April 10th\,  17th\,  or 24th @ 1:00 Learn how to access your library account\,  search the library catalog\,  check out ebooks and audiobooks and much more! You may bring your own laptop or tablet. Or you[..]
END:VEVENT
END:VCALENDAR